BEGIN:VCALENDAR
VERSION:2.0
PRODID:-//SPF Trossingen - ECPv6.15.20//NONSGML v1.0//EN
CALSCALE:GREGORIAN
METHOD:PUBLISH
X-ORIGINAL-URL:http://spf-trossingen.de
X-WR-CALDESC:Veranstaltungen für SPF Trossingen
REFRESH-INTERVAL;VALUE=DURATION:PT1H
X-Robots-Tag:noindex
X-PUBLISHED-TTL:PT1H
BEGIN:VTIMEZONE
TZID:UTC
BEGIN:STANDARD
TZOFFSETFROM:+0000
TZOFFSETTO:+0000
TZNAME:UTC
DTSTART:20250101T000000
END:STANDARD
END:VTIMEZONE
BEGIN:VEVENT
DTSTART;TZID=UTC:20260313T200000
DTEND;TZID=UTC:20260313T230000
DTSTAMP:20260425T172718
CREATED:20251105T082745Z
LAST-MODIFIED:20251105T082933Z
UID:1395-1773432000-1773442800@spf-trossingen.de
SUMMARY:Jahreshauptversammlung
DESCRIPTION:
URL:http://spf-trossingen.de/termin/vereinsheim-geoeffnet-6/
CATEGORIES:geöffnet,Jahreshauptversammlung
END:VEVENT
BEGIN:VEVENT
DTSTART;TZID=UTC:20260320T190000
DTEND;TZID=UTC:20260320T230000
DTSTAMP:20260425T172718
CREATED:20251105T160352Z
LAST-MODIFIED:20251105T160352Z
UID:1408-1774033200-1774047600@spf-trossingen.de
SUMMARY:Vereinsheim geöffnet
DESCRIPTION:
URL:http://spf-trossingen.de/termin/vereinsheim-geoeffnet-9/
CATEGORIES:geöffnet
END:VEVENT
BEGIN:VEVENT
DTSTART;TZID=UTC:20260327T190000
DTEND;TZID=UTC:20260327T230000
DTSTAMP:20260425T172718
CREATED:20251105T160547Z
LAST-MODIFIED:20251105T160547Z
UID:1410-1774638000-1774652400@spf-trossingen.de
SUMMARY:Darts
DESCRIPTION:
URL:http://spf-trossingen.de/termin/darts-3/
CATEGORIES:Darts
END:VEVENT
END:VCALENDAR