BEGIN:VCALENDAR
VERSION:2.0
PRODID:-//SPF Trossingen - ECPv6.15.20//NONSGML v1.0//EN
CALSCALE:GREGORIAN
METHOD:PUBLISH
X-WR-CALNAME:SPF Trossingen
X-ORIGINAL-URL:http://spf-trossingen.de
X-WR-CALDESC:Veranstaltungen für SPF Trossingen
REFRESH-INTERVAL;VALUE=DURATION:PT1H
X-Robots-Tag:noindex
X-PUBLISHED-TTL:PT1H
BEGIN:VTIMEZONE
TZID:UTC
BEGIN:STANDARD
TZOFFSETFROM:+0000
TZOFFSETTO:+0000
TZNAME:UTC
DTSTART:20250101T000000
END:STANDARD
END:VTIMEZONE
BEGIN:VEVENT
DTSTART;TZID=UTC:20260206T190000
DTEND;TZID=UTC:20260206T235900
DTSTAMP:20260425T190132
CREATED:20251104T163408Z
LAST-MODIFIED:20251104T163408Z
UID:1391-1770404400-1770422340@spf-trossingen.de
SUMMARY:Vereinsheim geöffnet
DESCRIPTION:
URL:http://spf-trossingen.de/termin/vereinsheim-geoeffnet-5/
CATEGORIES:geöffnet
END:VEVENT
BEGIN:VEVENT
DTSTART;TZID=UTC:20260220T190000
DTEND;TZID=UTC:20260220T230000
DTSTAMP:20260425T190132
CREATED:20251105T083233Z
LAST-MODIFIED:20251105T083233Z
UID:1400-1771614000-1771628400@spf-trossingen.de
SUMMARY:Darts
DESCRIPTION:
URL:http://spf-trossingen.de/termin/darts/
CATEGORIES:Darts
END:VEVENT
BEGIN:VEVENT
DTSTART;TZID=UTC:20260227T190000
DTEND;TZID=UTC:20260227T230000
DTSTAMP:20260425T190132
CREATED:20251105T083551Z
LAST-MODIFIED:20251105T083551Z
UID:1402-1772218800-1772233200@spf-trossingen.de
SUMMARY:Vereinsheim geöffnet
DESCRIPTION:
URL:http://spf-trossingen.de/termin/vereinsheim-geoeffnet-7/
CATEGORIES:geöffnet
END:VEVENT
END:VCALENDAR