BEGIN:VCALENDAR
VERSION:2.0
PRODID:-//SPF Trossingen - ECPv6.15.20//NONSGML v1.0//EN
CALSCALE:GREGORIAN
METHOD:PUBLISH
X-ORIGINAL-URL:http://spf-trossingen.de
X-WR-CALDESC:Veranstaltungen für SPF Trossingen
REFRESH-INTERVAL;VALUE=DURATION:PT1H
X-Robots-Tag:noindex
X-PUBLISHED-TTL:PT1H
BEGIN:VTIMEZONE
TZID:UTC
BEGIN:STANDARD
TZOFFSETFROM:+0000
TZOFFSETTO:+0000
TZNAME:UTC
DTSTART:20250101T000000
END:STANDARD
END:VTIMEZONE
BEGIN:VEVENT
DTSTART;VALUE=DATE:20260105
DTEND;VALUE=DATE:20260106
DTSTAMP:20260425T202201
CREATED:20250922T155947Z
LAST-MODIFIED:20251104T163702Z
UID:74-1767571200-1767657599@spf-trossingen.de
SUMMARY:Hockete
DESCRIPTION:
URL:http://spf-trossingen.de/termin/hockte/
CATEGORIES:Genuss & Geselligkeit
END:VEVENT
BEGIN:VEVENT
DTSTART;TZID=UTC:20260116T190000
DTEND;TZID=UTC:20260116T230000
DTSTAMP:20260425T202201
CREATED:20251009T123921Z
LAST-MODIFIED:20251009T123921Z
UID:1320-1768590000-1768604400@spf-trossingen.de
SUMMARY:Vereinsheim geöffnet
DESCRIPTION:
URL:http://spf-trossingen.de/termin/vereinsheim-geoeffnet-4/
CATEGORIES:geöffnet
END:VEVENT
BEGIN:VEVENT
DTSTART;TZID=UTC:20260123T190000
DTEND;TZID=UTC:20260123T230000
DTSTAMP:20260425T202201
CREATED:20251104T164232Z
LAST-MODIFIED:20251104T164232Z
UID:1393-1769194800-1769209200@spf-trossingen.de
SUMMARY:Darts-Abend
DESCRIPTION:
URL:http://spf-trossingen.de/termin/darts-abend-11/
CATEGORIES:Darts
END:VEVENT
END:VCALENDAR